Workbook

Sheet 2023 All Projects Rank by score
A1: PEC Recommendation to HPC - CoC FY 24-25 Project Ranking
A2: Ranking | B2: Project | C2: Total Budget FY23 | D2: Cumulative | E2: NEW OR RENEWAL? | F2: Score
A3: A | B3: Oasis Center YHDP Rapid Rehousing | C3: 1286725 | D3: =SUM(C$3:C3) -> 1286725 | E3: NOT RANKED | F3: N/A | G3: Per HUD's guidance, YHDP is non-competitive and non-ranked in this NOFO
A4: B | B4: YHDP SSO Diversion for Youth and Young Adults | C4: ='[1]FY 2021 GIW'!$V$22 -> 639000 | D4: =SUM($C3:C4) -> 1925725 | E4: NOT RANKED | F4: N/A
A5: 1* | B5: OHS HMIS | C5: 141508 | D5: =SUM(C$3:C5) -> 2067233 | E5: RENEWAL | F5: N/A
A6: 2* | B6: OHS Coordinated Entry | C6: 128000 | D6: =SUM(C$3:C6) -> 2195233 | E6: RENEWAL | F6: N/A
A7: 3* | B7: Mary Parrish Center SSO-CE | C7: 103120 | D7: =SUM(C$3:C7) -> 2298353 | E7: RENEWAL | F7: N/A
A8: 4 | B8: Safe Haven Family Shelter: RRH | C8: 279324 | D8: =SUM(C$3:C8) -> 2577677 | E8: RENEWAL | F8: =formulas!F9 -> 97.509804
A9: 5 | B9: Mary Parrish Center: Joint TH/RRH | C9: 240748 | D9: =SUM(C$3:C9) -> 2818425 | E9: RENEWAL | F9: =formulas!F6 -> 95.467391
A10: 6 | B10: Mary Parrish Center: TH | C10: 23688 | D10: =SUM(C$3:C10) -> 2842113 | E10: RENEWAL | F10: =formulas!F16 -> 93.478261
A11: 7 | B11: RITI: PSH: Omega | C11: 51097 | D11: =SUM(C$3:C11) -> 2893210 | E11: RENEWAL | F11: =formulas!F11 -> 91.489583
A12: 8 | B12: Mary Parrish Center: RRH | C12: 101094 | D12: =SUM(C$3:C12) -> 2994304 | E12: RENEWAL | F12: =formulas!F7 -> 90.304348
A13: 9 | B13: The Contributor COVER Dedicated Plus PSH | C13: 205195 | D13: =SUM(C$3:C13) -> 3199499 | E13: RENEWAL | F13: =formulas!F19 -> 76.676471
A14: 10 | B14: Park Center Nashville Housing First Collective | C14: 128552 | D14: =SUM(C$3:C14) -> 3328051 | E14: RENEWAL | F14: =formulas!F12 -> 79.310345
A15: 11 | B15: Salvation Army: Joint TH/RRH | C15: 236132 | D15: =SUM(C$3:C15) -> 3564183 | E15: RENEWAL | F15: =formulas!F14 -> 80.598039
A16: 12 | B16: Salvation Army RRH LifNav | C16: 66445 | D16: =SUM(C$3:C16) -> 3630628 | E16: RENEWAL | F16: =formulas!F8 -> 80.470588
A17: 13 | B17: Salvation Army LifNav Early Choice TBRA | C17: 363290 | D17: =SUM(C$3:C17) -> 3993918 | E17: RENEWAL | F17: =formulas!F20 -> 73.696078
A18: 14 | B18: MDHA: PSH: Shelter Plus Care Consolidated | C18: 2539048 | D18: =SUM(C$3:C18) -> 6532966 | E18: RENEWAL | F18: =formulas!F15 -> 68.588235
A19: 15 | B19: Safe Haven DV Bonus | C19: 759861 | D19: =SUM(C$3:C19) -> 7292827 | E19: RENEWAL | F19: =formulas!F13 -> 57.313725
A20: 16 | B20: Salvation Army DV RUTH 2 | C20: 540032 | D20: =SUM(C$3:C20) -> 7832859 | E20: RENEWAL | F20: =formulas!F17 -> 72.627451
A21: 17 | B21: Salvation Army DV RUTH | C21: 444214 | D21: =SUM(C$3:C21) -> 8277073 | E21: RENEWAL | F21: =formulas!F10 -> 69.686275
A22: 18 | B22: UHS: PSH: Homeless Recovery Program/Expansion | C22: 1036942 | D22: =SUM(C$3:C22) -> 9314015 | E22: RENEWAL | F22: =formulas!F18 -> 51.090909 | G22: 6649461 | H22: Tier 1 | I22: UHS Tier 1 | J22: 298113
A23: 19 | B23: Park Center: Nashville Housing First Collective Expansion | C23: 504959 | D23: =SUM(C$3:C23) -> 9818974 | E23: NEW | F23: =formulas!F27 -> 82.518987 | I23: UHS Tier 2 | J23: 738829
A24: 20 | B24: The Contributor COVER Dedicated Plus PSH Expansion | C24: 142460 | D24: =SUM(C$3:C24) -> 9961434 | E24: NEW | F24: =formulas!F29 -> 85.443038
A25: 21 | B25: Mary Parrish Center & CCF Joint TH/RRH DV Bonus 2024 | C25: 922240 | D25: =SUM(C$3:C25) -> 10883674 | E25: NEW DV Bonus | F25: =formulas!F30 -> 76.955056
A26: 22 | B26: Open Table of Nashville PSH | C26: 187537 | D26: =SUM(C$3:C26) -> 11071211 | E26: NEW | F26: =formulas!F26 -> 75.886076
A27: 23 | B27: DePaul USA: Strobel House | C27: 287151 | D27: =SUM(C$3:C27) -> 11358362 | E27: NEW | F27: =formulas!F23 -> 75.544304 | G27: 11358362 | H27: Tier 2 | I27: DePaul Tier 2 | J27: 287151
B28: TOTAL PROJECT REQUESTS RANKED | C28: =SUM(C3:C27) -> 11358362 | I28: NOT FUNDED | J28: 175813
B30: OHS/MDHA: CoC Planning Grant - HUD says do not rank | C30: 465701 | E30: considered new each year and not ranked
B31: (does not compete w projects above for funding)
B32: TOTAL ALL PROJECTS | C32: =SUM(C28:C31) -> 11824063
A35: NOT FUNDED | B35: DePaul USA: Strobel House (UNFUNDED) | C35: 175813 | E35: HUD assigns our CoC the following numbers:
B36: My Father's House Nashville: Support Services & Housing | C36: 395132 | E36: Annual Renewal Demand | G36: 9314015
B37: The Fellowship House PSH Program (CCF) | C37: 395847 | E37: CoC Bonus | G37: 1117682
B38: Catholic Charities: CoC Family Rapid Rehousing | C38: 100000 | E38: DV Bonus | G38: 926665
B39: Rescue 1 Global: Empowering Voices | C39: 518188 | E39: CoC Planning | G39: 465701
B40: H.O.P.E. Housing & Wrap-Around-Support | C40: 2207440 | E40: Tier 1 | G40: 6649461
B41: Safe Haven DV Bonus Expansion 2024 | C41: 926665
B42: TOTAL UNFUNDED | C42: 4719085

Sheet formulas
A2: Project | B2: Committee Score - 22 pts possible | C2: Admin Score | D2: Total Score | E2: Denominator | F2: %
A3: OHS HMIS | B3: na | C3: na | D3: na | E3: na
A4: OHS Coordinated Entry | B4: na | C4: na | D4: na | E4: na
A5: Mary Parrish Center SSO-CE | B5: na | C5: na | D5: na | E5: na
A6: Mary Parrish Center: Joint TH/RRH | B6: 17.83 | C6: 70 | D6: =B6+C6 -> 87.83 | E6: 92 | F6: =D6/E6*100 -> 95.467391
A7: Mary Parrish Center: RRH | B7: 20.08 | C7: 63 | D7: =B7+C7 -> 83.08 | E7: 92 | F7: =D7/E7*100 -> 90.304348
A8: Salvation Army RRH LifNav | B8: 15.08 | C8: 67 | D8: =B8+C8 -> 82.08 | E8: 102 | F8: =D8/E8*100 -> 80.470588
A9: Safe Haven Family Shelter: RRH | B9: 19.46 | C9: 80 | D9: =B9+C9 -> 99.46 | E9: 102 | F9: =D9/E9*100 -> 97.509804
A10: Salvation Army DV RUTH | B10: 15.08 | C10: 56 | D10: =B10+C10 -> 71.08 | E10: 102 | F10: =D10/E10*100 -> 69.686275
A11: RITI: PSH: Omega | B11: 15.83 | C11: 72 | D11: =B11+C11 -> 87.83 | E11: 96 | F11: =D11/E11*100 -> 91.489583
A12: Park Center Nashville Housing First Collective | B12: 20 | C12: 49 | D12: =B12+C12 -> 69 | E12: 87 | F12: =D12/E12*100 -> 79.310345
A13: Safe Haven DV Bonus | B13: 19.46 | C13: 39 | D13: =B13+C13 -> 58.46 | E13: 102 | F13: =D13/E13*100 -> 57.313725
A14: Salvation Army: Joint TH/RRH | B14: 14.21 | C14: 68 | D14: =B14+C14 -> 82.21 | E14: 102 | F14: =D14/E14*100 -> 80.598039
A15: MDHA: PSH: Shelter Plus Care Consolidated | B15: 16.96 | C15: 53 | D15: =B15+C15 -> 69.96 | E15: 102 | F15: =D15/E15*100 -> 68.588235
A16: Mary Parrish Center: TH | B16: 20 | C16: 66 | D16: =B16+C16 -> 86 | E16: 92 | F16: =D16/E16*100 -> 93.478261
A17: Salvation Army DV RUTH 2 | B17: 15.08 | C17: 59 | D17: =B17+C17 -> 74.08 | E17: 102 | F17: =D17/E17*100 -> 72.627451
... A31: Safe Haven DV Bonus Expansion 2024 | B31: 19.58 | C31: 41 | D31: =B31+C31 -> 60.58 | E31: 89 | F31: =D31/E31*100 -> 68.067416
A32: TOTAL PROJECT REQUESTS RANKED
A34: OHS/MDHA: CoC Planning Grant - HUD says do not rank | B34: na | C34: na | D34: na | E34: na
A35: (does not compete w projects above for funding)
A36: Oasis Center Youth Homeless Demo- RRH | B36: na | C36: na | D36: na | E36: na
A37: Oasis Center Youth Homeless Demo- Diversion | B37: na | C37: na | D37: na | E37: na
A38: TOTAL ALL PROJECTS
A57: Tier 1 is defined by HUD in the NOFO as a percent of the CoC’s Annual Renewal Demand (ARD) approved by HUD (FY 2021 – 69%). Tier 1 projects are traditionally protected from HUD cuts. Tier 2 is the difference between Tier 1 and the CoC’s ARD plus any amount available for bonus (including the Domestic Violence Bonus) as described in the HUD NOFO. Tier 2 projects must compete nationally for funding.
